BEGIN:VCALENDAR
VERSION:2.0
PRODID:-//85.13.144.107//NONSGML kigkonsult.se iCalcreator 2.20//
CALSCALE:GREGORIAN
METHOD:PUBLISH
X-WR-TIMEZONE:Europe/Berlin
BEGIN:VEVENT
UID:event43@deejaymaniac.de
DTSTAMP:20260425T122817Z
CATEGORIES:Event
DESCRIPTION:Tunnel pres. DR DONK\nCategory: Event\nLink: https://deejaymani
 ac.com/index.php?option=com_jem&view=event&id=43:tunnel-pres-dr-donk\n
DTSTART;TZID=Europe/Berlin:20250214T230000
DTEND;TZID=Europe/Berlin:20250214T230000
LOCATION:Docks\,Spielbudenplatz 19\,20359 Hamburg
SUMMARY:Tunnel pres. DR DONK
URL:https://deejaymaniac.com/index.php?option=com_jem&view=event&id=43:tunn
 el-pres-dr-donk
END:VEVENT
END:VCALENDAR